BEGIN:VCALENDAR
VERSION:2.0
PRODID:-//Ängabackens Björksoda - ECPv6.15.18//NONSGML v1.0//EN
CALSCALE:GREGORIAN
METHOD:PUBLISH
X-WR-CALNAME:Ängabackens Björksoda
X-ORIGINAL-URL:https://bjorksoda.jonasmelcherson.com
X-WR-CALDESC:Händelser för Ängabackens Björksoda
REFRESH-INTERVAL;VALUE=DURATION:PT1H
X-Robots-Tag:noindex
X-PUBLISHED-TTL:PT1H
BEGIN:VTIMEZONE
TZID:UTC
BEGIN:STANDARD
TZOFFSETFROM:+0000
TZOFFSETTO:+0000
TZNAME:UTC
DTSTART:20250101T000000
END:STANDARD
END:VTIMEZONE
BEGIN:VEVENT
DTSTART;TZID=UTC:20260411T110000
DTEND;TZID=UTC:20260411T130000
DTSTAMP:20260419T144359
CREATED:20260326T152110Z
LAST-MODIFIED:20260402T133358Z
UID:4329-1775905200-1775912400@bjorksoda.jonasmelcherson.com
SUMMARY:Fira våren med Sav-Safari hos Ängabackens Björksoda!
DESCRIPTION:Välkommen till en unik naturupplevelse som du inte vill missa. Var med vid årets första skördetid\, när saven stiger och vi tappar björkarna på den sav som ska bli Björksoda årgång 2026. \n\n\n\nFölj med i Ängabacken och ta del av den urgamla traditionen att tappa björksav. Lär dig hur resan går till – från träd till flaska\, från björk till bubbel! \n\n\n\nDetta ingår utöver själva naturupplevelsen:\n\n\n\n\nFika (surdegsmacka + färsk sav)\n\n\n\nTasting av Björksodans olika årgångar. (2022\, 2023\, 2024)\n\n\n\nBesök i jordkällare där flaskorna lagras\, samt besök i tankrummet där sav blir till Björksoda.\n\n\n\n\nBra att veta\n\n\n\n\nKlä dig varmt\, gummistövlar/oömma skor.\n\n\n\nParkering finns på gården.\n\n\n\nToalett finns i gårdsbutiken.\n\n\n\n\nVarmt välkomna! \n\n\n\nOBS: Saven är väderstyrd. Vi förbehåller oss rätten att ändra datum för sav-safari tills att saven kommit igång. Ni kommer i så fall meddelas detta. Om inte det nya datumet skulle passa kan ni avboka och få pengarna tillbaka.
URL:https://bjorksoda.jonasmelcherson.com/event/fira-varen-med-sav-safari-hos-angabackens-bjorksoda/
LOCATION:Ängabackens Björksoda\, SONARP 5\, Vaggeryd\, 56791\, Sweden
ATTACH;FMTTYPE=image/webp:https://bjorksoda.jonasmelcherson.com/wp-content/uploads/2026/03/Fira-varen-1-scaled.webp
END:VEVENT
END:VCALENDAR