BEGIN:VCALENDAR
VERSION:2.0
PRODID:-//Ängabackens Björksoda - ECPv6.15.18//NONSGML v1.0//EN
CALSCALE:GREGORIAN
METHOD:PUBLISH
X-WR-CALNAME:Ängabackens Björksoda
X-ORIGINAL-URL:https://bjorksoda.jonasmelcherson.com
X-WR-CALDESC:Händelser för Ängabackens Björksoda
REFRESH-INTERVAL;VALUE=DURATION:PT1H
X-Robots-Tag:noindex
X-PUBLISHED-TTL:PT1H
BEGIN:VTIMEZONE
TZID:UTC
BEGIN:STANDARD
TZOFFSETFROM:+0000
TZOFFSETTO:+0000
TZNAME:UTC
DTSTART:20250101T000000
END:STANDARD
END:VTIMEZONE
BEGIN:VEVENT
DTSTART;TZID=UTC:20260404T080000
DTEND;TZID=UTC:20260404T170000
DTSTAMP:20260419T144252
CREATED:20260402T133850Z
LAST-MODIFIED:20260402T134305Z
UID:4718-1775289600-1775322000@bjorksoda.jonasmelcherson.com
SUMMARY:Guidning & Provsmakning av Björksoda
DESCRIPTION:Lär dig mer om en uråldrig tradition i ny tappning. Välkommen till Björksodans vackra gård i hjärtat av Smålands skogar. Vi berättar om vår verksamhet och produktion och visar hantverket hur det går till när björksav blir Björksoda. Vi bjuder på provsmakning av Björksodans olika årgångar\, i vår gårdsbutik där det alltid råder skoglig vår! Följ naturens eget bubbel\, från träd till flaska. \n\n\n\nVad är inkluderat? \n\n\n\n\nGuidad visning av Björksodans lokaler och aktiviteter.\n\n\n\nBjörksavstappning – så går det till. Bildspel från träd till flaska.\n\n\n\nProvsmakning av tre olika årgångar av Björksoda.\n\n\n\nLättare tilltugg som passar till Björksoda.\n\n\n\n\nPraktisk information \n\n\n\nTid: 60 min \n\n\n\nParkering finns på innergården \n\n\n\nToalett med skötbord finns. \n\n\n\nVänligen anlända 5-10 minuter före evenemanget \n\n\n\nGårdsbutik öppen. Betalning med swish\, kort eller Paypal. \n\n\n\nSpråk Svenska\, Engelska
URL:https://bjorksoda.jonasmelcherson.com/event/guidning-provsmakning-av-bjorksoda/
LOCATION:Ängabackens Björksoda\, SONARP 5\, Vaggeryd\, 56791\, Sweden
ATTACH;FMTTYPE=image/webp:https://bjorksoda.jonasmelcherson.com/wp-content/uploads/2026/04/Guidad-visning-hero-liggande-1.webp
END:VEVENT
END:VCALENDAR